BEGIN:VCALENDAR
VERSION:2.0
PRODID:-//www.cw-baza.si - ECPv4.8.2//NONSGML v1.0//EN
CALSCALE:GREGORIAN
METHOD:PUBLISH
X-WR-CALNAME:www.cw-baza.si
X-ORIGINAL-URL:http://cw-baza.si
X-WR-CALDESC:Events for www.cw-baza.si
BEGIN:VEVENT
DTSTART;TZID=Europe/Ljubljana:20191115T163000
DTEND;TZID=Europe/Ljubljana:20191116T180000
DTSTAMP:20260424T071324
CREATED:20191001T090726Z
LAST-MODIFIED:20191108T134247Z
UID:255-1573835400-1573927200@cw-baza.si
SUMMARY:Idejno viharjenje - spominek
DESCRIPTION:POZOR! PRESTAVLJAMO DOGODEK.\nGremo se idejno viharjenje*! Tema: spominek iz Posočja\nImaš rad/a svoje okolje in bi rad/a\, da postane prepoznano v svetu? Verjameš vase in verjameš\, da lahko narediš nekaj novega? Če si ustvarjalna oseba\, programer\, pisec\, zgodovinar\, športnik\, hejter\, lokalni patriot\, si oseba\, ki jo potrebujemo! \nNaredimo nov spominek za Posočje\, ki bo krasil prodajalne\, hladilnike\, mize\, ljudi po svetu. \nZakaj tak dogodek? \nCoworking Baza se nahaja v starem mestnem jedru Tolmina. Večkrat smo že zasledili povpraševanje\, spraševanje\, pritoževanje\, da nimamo pravih spominkov. Na drugi strani pa se srečujemo tudi s posamezniki\, ki ste odlični izdelovalci\, občasno pa se vam zatakne pri idejah. Odločili smo se\, da čimveč ustvarjalnih ljudi zberemo na kup in poskusimo skupaj zbrati ideje\, ki bodo uresničljive in na koncu uresničene. \nNaše idejno viharjenje ne bo tekmovanje v zbiranju idej. Želimo si\, da bi vi\, udeleženci v naslednji turistični sezoni ponudili kvalitetne in izvirne spominke. Dogodek bo torej dodaten zagon za vas udeležence\, da boste čez zimo z novo energijo ustvarjali in dosegli kar si želite. \nKlik na prijavnico. Prijave zbiramo do 12. novembra. \nVOZNI RED: \nPetek 15. november\n16.30 – 17.00 Registracija udeležencev\n17.00 – 18.00 Uvod in predstavitev idejnega viharjenja\n18.00 – 19.00 Razdelitev in delo po skupinah\n19.00 – 19.15 KRATEK ODMOR\n19.15 – 21.00 Nadaljevanja dela po skupinah\n21.00 ZAKLJUČEK PRVEGA DNE \nSobota 16. november\n8.30 – 9.30 ZAJTRK\n9.30 – 12.00 Nadaljujemo z delom po skupinah\n12.00 – 13.00 KOSILO\n13.00 – 14.00 Kratka analiza narejenega\n14.00 – 15.00 Zaključek dela po skupinah\n15.00 – 15.30 ODMOR\n15.30 – 17.00 Priprava na predstavitev\n17.00 – 18.00 Predstavitev izdelkov \n  \nZa jedačo in pijačo bo poskrbljeno. \nIdejno viharjenje je za udeležence brezplačno\,  sofinancirano je s strani Republike Slovenije in Evropske unije iz Evropskega sklada za regionalni razvoj. \n \n  \n*Večkrat omenjamo\, da se gremo v novembru hekaton na temo spominka. Hekaton ni nič drugega kot samo tujka za kreativno reševanje problemov\, organiziran dogodek\, kjer se združijo različni posamezniki z namenom reševanja problemov\, iskanja ali ustvarjanja inovativnih produktov oziroma rešitev. \n
URL:http://cw-baza.si/event/idejno-viharjenje-spominek/
ATTACH;FMTTYPE=image/jpeg:http://cw-baza.si/wp-content/uploads/2019/10/rokodelci.jpg
END:VEVENT
END:VCALENDAR