BEGIN:VCALENDAR
VERSION:2.0
PRODID:-//www.cw-baza.si - ECPv4.8.2//NONSGML v1.0//EN
CALSCALE:GREGORIAN
METHOD:PUBLISH
X-WR-CALNAME:www.cw-baza.si
X-ORIGINAL-URL:http://cw-baza.si
X-WR-CALDESC:Events for www.cw-baza.si
BEGIN:VEVENT
DTSTART;TZID=Europe/Ljubljana:20191126T180000
DTEND;TZID=Europe/Ljubljana:20191126T200000
DTSTAMP:20260424T054022
CREATED:20191108T082647Z
LAST-MODIFIED:20191108T084708Z
UID:287-1574791200-1574798400@cw-baza.si
SUMMARY:Instagram?
DESCRIPTION:Kaj je Instagram? \nDelavnico namenjamo nepoznavalcem Instagrama\, podjetnikom\, ki bi si želeli povečati svoj trg. \n\nZakaj in kako nam lahko pride prav pri prodaji izdelkov\, storitev.\nV čem so njegove prednosti\, slabosti.\nKako lahko s pomočjo Instagrama povečamo prodajo.\n\nS seboj imejte pametne telefone. \nNa delavnico se je potrebno prijaviti. Klikni tu za prijavo. \nDelavnica je za udeležence brezplačna\,  sofinancirana je s strani Republike Slovenije in Evropske unije iz Evropskega sklada za regionalni razvoj. \n \n  \n
URL:http://cw-baza.si/event/instagram/
END:VEVENT
END:VCALENDAR