BEGIN:VCALENDAR
VERSION:2.0
PRODID:-//www.cw-baza.si - ECPv4.8.2//NONSGML v1.0//EN
CALSCALE:GREGORIAN
METHOD:PUBLISH
X-WR-CALNAME:www.cw-baza.si
X-ORIGINAL-URL:http://cw-baza.si
X-WR-CALDESC:Events for www.cw-baza.si
BEGIN:VEVENT
DTSTART;TZID=Europe/Ljubljana:20191112T180000
DTEND;TZID=Europe/Ljubljana:20191112T200000
DTSTAMP:20260424T071103
CREATED:20191108T191702Z
LAST-MODIFIED:20191111T134950Z
UID:291-1573581600-1573588800@cw-baza.si
SUMMARY:Partnerstvo v poslu
DESCRIPTION:Kaj je lažje – dobit partnerja v življenju ali partnerja v poslu? Pri obeh gre za odločitev\, ki bo zaznamovala neko obdobje našega življenja. \nVčasih potrebujemo partnerja samo pri določenem poslu\, projektu\, uresničevanju ideje. Torkovo kratko delavnico bomo posvetili kratkoročnemu partnerstvu v poslu. Kaj je pomembno\, ko se povezujemo skupaj v projektih\, enkratnih poslih. Zakaj bi se sploh povezali\, če smo vajeni solirati na trgu. Kako razdeliti odgovornosti in pravice… \nDelavnica je za udeležence brezplačna\,  sofinancirana je s strani Republike Slovenije in Evropske unije iz Evropskega sklada za regionalni razvoj. \n \n
URL:http://cw-baza.si/event/partnerstvo-v-poslu/
ATTACH;FMTTYPE=image/jpeg:http://cw-baza.si/wp-content/uploads/2019/11/poslovnipartner-e1573240578826.jpg
END:VEVENT
END:VCALENDAR