BEGIN:VCALENDAR
VERSION:2.0
PRODID:-//www.cw-baza.si - ECPv4.8.2//NONSGML v1.0//EN
CALSCALE:GREGORIAN
METHOD:PUBLISH
X-WR-CALNAME:www.cw-baza.si
X-ORIGINAL-URL:http://cw-baza.si
X-WR-CALDESC:Events for www.cw-baza.si
BEGIN:VEVENT
DTSTART;TZID=Europe/Ljubljana:20191119T180000
DTEND;TZID=Europe/Ljubljana:20191119T200000
DTSTAMP:20260424T071257
CREATED:20191111T134818Z
LAST-MODIFIED:20191111T135159Z
UID:295-1574186400-1574193600@cw-baza.si
SUMMARY:Prodajne veščine
DESCRIPTION:Ni vsak rojen za prodajalca\, pri solističnih podjetnikih\, ustvarjalcih\, kjer je en človek sam za vse\, pa se je potrebno prodaje naučiti. \nNe obljubljam\, da se boste v dveh urah naučili vse modrosti dobre prodaje. Bomo pa temeljito predebatirali slabosti in prednosti vaših prodajnih strategij in jih poskušali popraviti\, kjer je to potrebno. \nNa delavnico prinesite en svoj izdelek. \nNa delavnico se je potrebno prijaviti. Klikni tu za prijavo. \nDelavnica je za udeležence brezplačna\,  sofinancirana je s strani Republike Slovenije in Evropske unije iz Evropskega sklada za regionalni razvoj. \n \n
URL:http://cw-baza.si/event/prodajne-vescine/
END:VEVENT
END:VCALENDAR