BEGIN:VCALENDAR
VERSION:2.0
PRODID:-//www.cw-baza.si - ECPv4.8.2//NONSGML v1.0//EN
CALSCALE:GREGORIAN
METHOD:PUBLISH
X-WR-CALNAME:www.cw-baza.si
X-ORIGINAL-URL:http://cw-baza.si
X-WR-CALDESC:Events for www.cw-baza.si
BEGIN:VEVENT
DTSTART;TZID=Europe/Ljubljana:20190924T180000
DTEND;TZID=Europe/Ljubljana:20190924T200000
DTSTAMP:20260424T084920
CREATED:20190909T103416Z
LAST-MODIFIED:20190924T125518Z
UID:99-1569348000-1569355200@cw-baza.si
SUMMARY:Svež veter v mojem podjetju
DESCRIPTION:Pričenjamo jesensko serijo kratkih podjetniških delavnic.\nDejstvo je\, da se je potrebno stalno razvijati\, spreminjati\, dodelovati svoj program. Kupci hočejo vedno nekaj novega. \nTolmin je staro mesto z bogato zgodovino. Obišče ga vsako leto več turistov. Največkrat omenjamo festivalske turiste\, vendar so tu še drugi\, ki pa pogrešajo nekaj stvari. \nNa delavnicah se bomo posvetili priložnostim. Zgrabite svojo priložnost. \n  \nDelavnica je za udeležence brezplačna\,  sofinancirana je s strani Republike Slovenije in Evropske unije iz Evropskega sklada za regionalni razvoj. \n \n  \n
URL:http://cw-baza.si/event/svez-veter-v-mojem-podjetju/
ATTACH;FMTTYPE=image/jpeg:http://cw-baza.si/wp-content/uploads/2019/09/IMG_20190904_170625-01.jpeg
END:VEVENT
END:VCALENDAR