BEGIN:VCALENDAR
VERSION:2.0
PRODID:-//www.cw-baza.si - ECPv4.8.2//NONSGML v1.0//EN
CALSCALE:GREGORIAN
METHOD:PUBLISH
X-WR-CALNAME:www.cw-baza.si
X-ORIGINAL-URL:http://cw-baza.si
X-WR-CALDESC:Events for www.cw-baza.si
BEGIN:VEVENT
DTSTART;TZID=Europe/Ljubljana:20191123T080000
DTEND;TZID=Europe/Ljubljana:20191123T160000
DTSTAMP:20260424T085134
CREATED:20190930T131158Z
LAST-MODIFIED:20191023T101108Z
UID:251-1574496000-1574524800@cw-baza.si
SUMMARY:Vzemi si čas za fokus
DESCRIPTION:Postavi sebe in svoj uspeh na prvo mesto! \n“Če smo pred leti upravljali s časom je danes naša pozornost tista\, s katero moramo znati upravljati.” \nLjudje danes živimo in delamo v svetu polnem motilcev\, ki nam na naših pametnih napravah sledijo iz doma na delo – iz dela domov. Raziskave kažejo\, da se ljudje vse težje zberemo\, da bi efektivno zaključevali odprte naloge\, kajti “prekinitve” v obliki motilcev se dogajajo ves čas. Zaradi izgube fokusa pa imamo občutek\, da delamo delo dveh ali treh ljudi. Bistvo upravljanja s fokusom je v znanju delovanja naših možganov – naše koncentracije. \nNa delavnici se boste naučili: \n\nkako deluje naša koncentracija in kako lahko izkoristite t.i. PEAK-PERFORMANCE intervale v prid hitrejšega\nzaključevanja nalog ter kako jih lahko izkoristite svojemu delu v prid\,\nkaj pomeni “učinek zeigarnickove” in kako lahko po hitrem postopku nenarejeno spremenite v narejeno z dodatnim učinkom zadovoljstva!\nkaterih 6 PRINCIPOV morate poznati in jim slediti\, da vaše\nživljenje postane polno dobrih časovnih navad\, ki so temelj\nvsake zgodbe o uspehu.\n\n  \nPo delavnici boste obvladali: \n\nprepoznavati stresorje\,\nučinkovito upravljati z energijo in polniti zalogovnike na vseh ravneh\,\nupravljati z ravnovesjem življenja in dela\, da se izognete bolezni sodobnega časa – izgorevanja\,\nizbirati prave cilje in postavljati prioritete usklajene z cilji\,\ndelovati znotraj lastnih peak-performance intervalov koncentracije\,\nčim dlje delovati znotra zone “flow” kjer se nahajajo najboljše ideje in najhitrejše delo\,\nuživati ob aktivaciji svojih veščin z namenom ustvarajanja koristi za druge\, tim\, podjetje in svet v\nkaterem živimo.\n\n  \nNa delavnico se je potrebno prijaviti. Klikni tu za prijavo. \nZa jedačo in pijačo bo poskrbljeno. \nIdejno viharjenje je za udeležence brezplačno\,  sofinancirano je s strani Republike Slovenije in Evropske unije iz Evropskega sklada za regionalni razvoj. \n \n
URL:http://cw-baza.si/event/vzemi-si-cas-za-fokus/
ATTACH;FMTTYPE=image/jpeg:http://cw-baza.si/wp-content/uploads/2019/09/metagroselj-fokus-e1569849112816.jpg
END:VEVENT
END:VCALENDAR