BEGIN:VCALENDAR
VERSION:2.0
PRODID:-//www.cw-baza.si - ECPv4.8.2//NONSGML v1.0//EN
CALSCALE:GREGORIAN
METHOD:PUBLISH
X-WR-CALNAME:www.cw-baza.si
X-ORIGINAL-URL:http://cw-baza.si
X-WR-CALDESC:Events for www.cw-baza.si
BEGIN:VEVENT
DTSTART;TZID=Europe/Ljubljana:20191008T180000
DTEND;TZID=Europe/Ljubljana:20191008T203000
DTSTAMP:20260424T090423
CREATED:20190919T083913Z
LAST-MODIFIED:20191009T060510Z
UID:187-1570557600-1570566600@cw-baza.si
SUMMARY:Po navdih v muzej
DESCRIPTION:V tolminski muzej se bomo odpravili iskat navdih. Sprehodili se bomo po muzeju pod vodstvom Karle Kofol. Poskušali bomo spodbuditi domišljijo\, da bi dobili kakšno idejo kako implementirati kulturno dediščino v svoje storitve\, izdelke. \nŠtevilo udeležencev je omejeno\, zato so prijave obvezne. Klik na prijavnico. \nDelavnica je za udeležence brezplačna\,  sofinancirana je s strani Republike Slovenije in Evropske unije iz Evropskega sklada za regionalni razvoj. \n \n
URL:http://cw-baza.si/event/po-navdih-v-muzej/
ATTACH;FMTTYPE=image/jpeg:http://cw-baza.si/wp-content/uploads/2019/09/arheo-bron-2.jpg
END:VEVENT
END:VCALENDAR