BEGIN:VCALENDAR
VERSION:2.0
PRODID:-//www.cw-baza.si - ECPv4.8.2//NONSGML v1.0//EN
CALSCALE:GREGORIAN
METHOD:PUBLISH
X-WR-CALNAME:www.cw-baza.si
X-ORIGINAL-URL:http://cw-baza.si
X-WR-CALDESC:Events for www.cw-baza.si
BEGIN:VEVENT
DTSTART;TZID=Europe/Ljubljana:20191012T100000
DTEND;TZID=Europe/Ljubljana:20191013T170000
DTSTAMP:20260424T104409
CREATED:20190916T092404Z
LAST-MODIFIED:20191023T105024Z
UID:122-1570874400-1570986000@cw-baza.si
SUMMARY:Stare obrti - nove ideje (FrikaFEST)
DESCRIPTION:V času tminskega praznika FrikaFEST bo pred Coworking Bazo potekala delavnica Stare obrti – nove ideje\, kjer se bomo lotili predelave starega pohištva in ponovne uporabe odsluženih predmetov. \nPodrobneje o delavnici: \n\npotekala bo v dopoldanskem času\, popoldne pa bomo svoje izdelke postavili na ogled obiskovalcem FrikaFESTa\,\nprimerna je za staro in mlado (nad 10 let*)\,\norodje in materiale za obdelavno bomo priskrbeli mi\,\ns seboj lahko prinesete kak svoj kos\, če želite.\nobdelani kosi\, ki jih priskrbimo mi\, ostanejo v lasti Zavoda Coworking Baza.\ndelavnica je za udeležence brezplačna\, sofinancirana je s strani Republike Slovenije in Evropske unije iz Evropskega sklada za regionalni razvoj.\n\n  \n  \n*Uporabljali bomo različna orodja za obdelavo materialov\, odgovornost za poškodbe prevzemajo udeleženci v celoti sami\, oziroma pri mladoletnih osebah njihovi starši. \n \n
URL:http://cw-baza.si/event/frikafest/
LOCATION:stari del Tolmina
ATTACH;FMTTYPE=image/jpeg:http://cw-baza.si/wp-content/uploads/2019/09/stareobrti-e1570006074686.jpeg
END:VEVENT
END:VCALENDAR