BEGIN:VCALENDAR
VERSION:2.0
PRODID:-//www.cw-baza.si - ECPv4.8.2//NONSGML v1.0//EN
CALSCALE:GREGORIAN
METHOD:PUBLISH
X-WR-CALNAME:www.cw-baza.si
X-ORIGINAL-URL:http://cw-baza.si
X-WR-CALDESC:Events for www.cw-baza.si
BEGIN:VEVENT
DTSTART;TZID=Europe/Ljubljana:20191015T180000
DTEND;TZID=Europe/Ljubljana:20191015T200000
DTSTAMP:20260424T102157
CREATED:20191002T091624Z
LAST-MODIFIED:20191002T091624Z
UID:269-1571162400-1571169600@cw-baza.si
SUMMARY:Kako razstavljati
DESCRIPTION:Na sejmih\, prodajnih stojnicah\, v trgovinah se večkrat srečamo s težavo kako postaviti izdelke po policah\, da privlačijo poglede in odprejo denarnice :). Tej temi se bomo posvetili podrobneje in na resničnih policah z različnimi postavitvami pretestirali učinek. \n  \nDelavnica je za udeležence brezplačna\,  sofinancirana je s strani Republike Slovenije in Evropske unije iz Evropskega sklada za regionalni razvoj. \n \n
URL:http://cw-baza.si/event/kako-razstavljati/
END:VEVENT
END:VCALENDAR